Package: target Version: 1.24.0 Command: /home/biocbuild/bbs-3.22-bioc/R/bin/R CMD INSTALL target StartedAt: 2025-11-11 15:58:44 -0500 (Tue, 11 Nov 2025) EndedAt: 2025-11-11 15:58:54 -0500 (Tue, 11 Nov 2025) EllapsedTime: 9.6 seconds RetCode: 0 Status: OK