Package: tanggle Version: 1.16.0 Command: /home/biocbuild/bbs-3.22-bioc/R/bin/R CMD check --install=check:tanggle.install-out.txt --library=/home/biocbuild/bbs-3.22-bioc/R/site-library --timings tanggle_1.16.0.tar.gz StartedAt: 2025-11-14 04:53:25 -0500 (Fri, 14 Nov 2025) EndedAt: 2025-11-14 04:54:40 -0500 (Fri, 14 Nov 2025) EllapsedTime: 75.1 seconds RetCode: 0 Status: OK CheckDir: tanggle.Rcheck Warnings: 0