Package: tanggle Version: 1.16.0 Command: /home/biocbuild/bbs-3.22-bioc/R/bin/R CMD build --keep-empty-dirs --no-resave-data --md5 tanggle StartedAt: 2025-11-11 20:36:09 -0500 (Tue, 11 Nov 2025) EndedAt: 2025-11-11 20:36:31 -0500 (Tue, 11 Nov 2025) EllapsedTime: 22.0 seconds RetCode: 0 Status: OK PackageFile: tanggle_1.16.0.tar.gz PackageFileSize: 2.07 MiB