Package: tanggle Version: 1.14.0 Command: /Library/Frameworks/R.framework/Resources/bin/R CMD INSTALL tanggle StartedAt: 2025-10-13 15:28:44 -0400 (Mon, 13 Oct 2025) EndedAt: 2025-10-13 15:28:51 -0400 (Mon, 13 Oct 2025) EllapsedTime: 7.4 seconds RetCode: 0 Status: OK