Package: tanggle Version: 1.14.0 Command: /Library/Frameworks/R.framework/Resources/bin/R CMD build --keep-empty-dirs --no-resave-data tanggle StartedAt: 2025-10-14 10:50:31 -0400 (Tue, 14 Oct 2025) EndedAt: 2025-10-14 10:51:00 -0400 (Tue, 14 Oct 2025) EllapsedTime: 29.4 seconds RetCode: 0 Status: OK PackageFile: tanggle_1.14.0.tar.gz PackageFileSize: 1.92 MiB