Package: tanggle Version: 1.14.0 Command: rm -rf tanggle.buildbin-libdir && mkdir tanggle.buildbin-libdir && /Users/biocbuild/BBS/utils/build-universal.sh tanggle_1.14.0.tar.gz /Library/Frameworks/R.framework/Resources/bin/R tanggle.buildbin-libdir StartedAt: 2025-10-15 20:47:45 -0400 (Wed, 15 Oct 2025) EndedAt: 2025-10-15 20:47:55 -0400 (Wed, 15 Oct 2025) EllapsedTime: 10.1 seconds RetCode: 0 Status: OK PackageFile: tanggle_1.14.0.tgz PackageFileSize: 1.933 MiB