Package: tadar Version: 1.8.0 Command: /home/biocbuild/bbs-3.22-bioc/R/bin/R CMD INSTALL tadar StartedAt: 2025-11-06 15:51:59 -0500 (Thu, 06 Nov 2025) EndedAt: 2025-11-06 15:53:03 -0500 (Thu, 06 Nov 2025) EllapsedTime: 63.8 seconds RetCode: 0 Status: OK