Package: tRNAscanImport Version: 1.30.0 Command: /home/biocbuild/R/R/bin/R CMD INSTALL tRNAscanImport StartedAt: 2025-11-20 22:29:28 -0000 (Thu, 20 Nov 2025) EndedAt: 2025-11-20 22:30:16 -0000 (Thu, 20 Nov 2025) EllapsedTime: 48.1 seconds RetCode: 0 Status: OK