Package: tRNAscanImport Version: 1.30.0 Command: /home/biocbuild/R/R/bin/R CMD build --keep-empty-dirs --no-resave-data tRNAscanImport StartedAt: 2025-11-21 06:39:00 -0000 (Fri, 21 Nov 2025) EndedAt: 2025-11-21 06:41:27 -0000 (Fri, 21 Nov 2025) EllapsedTime: 147.1 seconds RetCode: 0 Status: OK PackageFile: tRNAscanImport_1.30.0.tar.gz PackageFileSize: 611.5 KiB