Package: tRNAscanImport Version: 1.30.0 Command: /home/biocbuild/bbs-3.22-bioc/R/bin/R CMD INSTALL tRNAscanImport StartedAt: 2025-11-14 15:41:24 -0500 (Fri, 14 Nov 2025) EndedAt: 2025-11-14 15:42:01 -0500 (Fri, 14 Nov 2025) EllapsedTime: 36.9 seconds RetCode: 0 Status: OK