Package: tRNAscanImport Version: 1.30.0 Command: /home/biocbuild/bbs-3.22-bioc/R/bin/R CMD build --keep-empty-dirs --no-resave-data --md5 tRNAscanImport StartedAt: 2025-11-13 20:44:11 -0500 (Thu, 13 Nov 2025) EndedAt: 2025-11-13 20:45:50 -0500 (Thu, 13 Nov 2025) EllapsedTime: 99.1 seconds RetCode: 0 Status: OK PackageFile: tRNAscanImport_1.30.0.tar.gz PackageFileSize: 851.2 KiB