Package: tRNAscanImport Version: 1.28.0 Command: /Library/Frameworks/R.framework/Resources/bin/R CMD INSTALL tRNAscanImport StartedAt: 2025-04-21 15:31:06 -0400 (Mon, 21 Apr 2025) EndedAt: 2025-04-21 15:31:56 -0400 (Mon, 21 Apr 2025) EllapsedTime: 49.4 seconds RetCode: 0 Status: OK