Package: tRNAscanImport Version: 1.28.0 Command: rm -rf tRNAscanImport.buildbin-libdir && mkdir tRNAscanImport.buildbin-libdir && /Users/biocbuild/BBS/utils/build-universal.sh tRNAscanImport_1.28.0.tar.gz /Library/Frameworks/R.framework/Resources/bin/R tRNAscanImport.buildbin-libdir StartedAt: 2025-04-22 01:14:14 -0400 (Tue, 22 Apr 2025) EndedAt: 2025-04-22 01:15:05 -0400 (Tue, 22 Apr 2025) EllapsedTime: 51.0 seconds RetCode: 0 Status: OK PackageFile: tRNAscanImport_1.28.0.tgz PackageFileSize: 926.8 KiB