Package: tRNAscanImport Version: 1.28.0 Command: /Library/Frameworks/R.framework/Resources/bin/R CMD INSTALL tRNAscanImport StartedAt: 2025-10-13 17:12:12 -0400 (Mon, 13 Oct 2025) EndedAt: 2025-10-13 17:12:55 -0400 (Mon, 13 Oct 2025) EllapsedTime: 43.7 seconds RetCode: 0 Status: OK