Package: tRNAscanImport Version: 1.28.0 Command: /Library/Frameworks/R.framework/Resources/bin/R CMD build --keep-empty-dirs --no-resave-data tRNAscanImport StartedAt: 2025-10-14 11:27:39 -0400 (Tue, 14 Oct 2025) EndedAt: 2025-10-14 11:29:35 -0400 (Tue, 14 Oct 2025) EllapsedTime: 115.5 seconds RetCode: 0 Status: OK PackageFile: tRNAscanImport_1.28.0.tar.gz PackageFileSize: 875.9 KiB