Package: tRNAscanImport Version: 1.28.0 Command: rm -rf tRNAscanImport.buildbin-libdir && mkdir tRNAscanImport.buildbin-libdir && /Users/biocbuild/BBS/utils/build-universal.sh tRNAscanImport_1.28.0.tar.gz /Library/Frameworks/R.framework/Resources/bin/R tRNAscanImport.buildbin-libdir StartedAt: 2025-10-15 20:55:52 -0400 (Wed, 15 Oct 2025) EndedAt: 2025-10-15 20:56:39 -0400 (Wed, 15 Oct 2025) EllapsedTime: 47.2 seconds RetCode: 0 Status: OK PackageFile: tRNAscanImport_1.28.0.tgz PackageFileSize: 923.4 KiB