Package: tRNAdbImport Version: 1.28.0 Command: /home/biocbuild/R/R/bin/R CMD INSTALL tRNAdbImport StartedAt: 2025-11-13 21:50:41 -0000 (Thu, 13 Nov 2025) EndedAt: 2025-11-13 21:51:01 -0000 (Thu, 13 Nov 2025) EllapsedTime: 20.0 seconds RetCode: 0 Status: OK