Package: tRNAdbImport Version: 1.28.0 Command: /home/biocbuild/R/R/bin/R CMD build --keep-empty-dirs --no-resave-data tRNAdbImport StartedAt: 2025-11-14 06:07:58 -0000 (Fri, 14 Nov 2025) EndedAt: 2025-11-14 06:08:42 -0000 (Fri, 14 Nov 2025) EllapsedTime: 43.0 seconds RetCode: 0 Status: OK PackageFile: tRNAdbImport_1.28.0.tar.gz PackageFileSize: 393.3 KiB