Package: tRNAdbImport Version: 1.28.0 Command: /home/biocbuild/bbs-3.22-bioc/R/bin/R CMD INSTALL tRNAdbImport StartedAt: 2025-11-11 15:43:11 -0500 (Tue, 11 Nov 2025) EndedAt: 2025-11-11 15:43:25 -0500 (Tue, 11 Nov 2025) EllapsedTime: 14.3 seconds RetCode: 0 Status: OK