Package: tRNAdbImport Version: 1.28.0 Command: /home/biocbuild/bbs-3.22-bioc/R/bin/R CMD check --install=check:tRNAdbImport.install-out.txt --library=/home/biocbuild/bbs-3.22-bioc/R/site-library --timings tRNAdbImport_1.28.0.tar.gz StartedAt: 2025-11-12 05:12:55 -0500 (Wed, 12 Nov 2025) EndedAt: 2025-11-12 05:14:51 -0500 (Wed, 12 Nov 2025) EllapsedTime: 116.1 seconds RetCode: 0 Status: OK CheckDir: tRNAdbImport.Rcheck Warnings: 0