Package: tRNAdbImport Version: 1.28.0 Command: /home/biocbuild/bbs-3.22-bioc/R/bin/R CMD build --keep-empty-dirs --no-resave-data --md5 tRNAdbImport StartedAt: 2025-11-11 20:46:00 -0500 (Tue, 11 Nov 2025) EndedAt: 2025-11-11 20:46:29 -0500 (Tue, 11 Nov 2025) EllapsedTime: 29.0 seconds RetCode: 0 Status: OK PackageFile: tRNAdbImport_1.28.0.tar.gz PackageFileSize: 323 KiB