Package: tRNAdbImport Version: 1.26.0 Command: /home/biocbuild/bbs-3.21-bioc/R/bin/R CMD INSTALL tRNAdbImport StartedAt: 2025-10-15 15:41:14 -0400 (Wed, 15 Oct 2025) EndedAt: 2025-10-15 15:41:29 -0400 (Wed, 15 Oct 2025) EllapsedTime: 14.7 seconds RetCode: 0 Status: OK