Package: tRNAdbImport Version: 1.28.0 Command: /Library/Frameworks/R.framework/Resources/bin/R CMD INSTALL tRNAdbImport StartedAt: 2025-11-20 17:00:32 -0500 (Thu, 20 Nov 2025) EndedAt: 2025-11-20 17:01:06 -0500 (Thu, 20 Nov 2025) EllapsedTime: 33.5 seconds RetCode: 0 Status: OK