Package: tRNAdbImport Version: 1.28.0 Command: /Library/Frameworks/R.framework/Resources/bin/R CMD build --keep-empty-dirs --no-resave-data tRNAdbImport StartedAt: 2025-11-21 00:36:10 -0500 (Fri, 21 Nov 2025) EndedAt: 2025-11-21 00:37:25 -0500 (Fri, 21 Nov 2025) EllapsedTime: 74.9 seconds RetCode: 0 Status: OK PackageFile: tRNAdbImport_1.28.0.tar.gz PackageFileSize: 321.8 KiB