Package: tRNAdbImport Version: 1.26.0 Command: /Library/Frameworks/R.framework/Resources/bin/R CMD INSTALL tRNAdbImport StartedAt: 2025-04-21 15:31:21 -0400 (Mon, 21 Apr 2025) EndedAt: 2025-04-21 15:31:43 -0400 (Mon, 21 Apr 2025) EllapsedTime: 21.4 seconds RetCode: 0 Status: OK