Package: tRNAdbImport Version: 1.26.0 Command: /Library/Frameworks/R.framework/Resources/bin/R CMD build --keep-empty-dirs --no-resave-data tRNAdbImport StartedAt: 2025-10-14 11:27:34 -0400 (Tue, 14 Oct 2025) EndedAt: 2025-10-14 11:28:12 -0400 (Tue, 14 Oct 2025) EllapsedTime: 38.3 seconds RetCode: 0 Status: OK PackageFile: tRNAdbImport_1.26.0.tar.gz PackageFileSize: 321.9 KiB