Package: tRNAdbImport Version: 1.26.0 Command: rm -rf tRNAdbImport.buildbin-libdir && mkdir tRNAdbImport.buildbin-libdir && /Users/biocbuild/BBS/utils/build-universal.sh tRNAdbImport_1.26.0.tar.gz /Library/Frameworks/R.framework/Resources/bin/R tRNAdbImport.buildbin-libdir StartedAt: 2025-10-15 20:55:47 -0400 (Wed, 15 Oct 2025) EndedAt: 2025-10-15 20:56:06 -0400 (Wed, 15 Oct 2025) EllapsedTime: 19.3 seconds RetCode: 0 Status: OK PackageFile: tRNAdbImport_1.26.0.tgz PackageFileSize: 379.5 KiB