Package: tRNA Version: 1.26.0 Command: /home/biocbuild/R/R/bin/R CMD INSTALL tRNA StartedAt: 2025-10-13 20:52:57 -0000 (Mon, 13 Oct 2025) EndedAt: 2025-10-13 20:53:20 -0000 (Mon, 13 Oct 2025) EllapsedTime: 22.8 seconds RetCode: 0 Status: OK