Package: tRNA Version: 1.26.0 Command: /home/biocbuild/R/R/bin/R CMD build --keep-empty-dirs --no-resave-data tRNA StartedAt: 2025-10-14 05:31:40 -0000 (Tue, 14 Oct 2025) EndedAt: 2025-10-14 05:35:39 -0000 (Tue, 14 Oct 2025) EllapsedTime: 239.2 seconds RetCode: 0 Status: OK PackageFile: tRNA_1.26.0.tar.gz PackageFileSize: 1.283 MiB