Package: tRNA Version: 1.26.0 Command: /Library/Frameworks/R.framework/Resources/bin/R CMD build --keep-empty-dirs --no-resave-data tRNA StartedAt: 2025-04-21 17:55:13 -0400 (Mon, 21 Apr 2025) EndedAt: 2025-04-21 17:56:04 -0400 (Mon, 21 Apr 2025) EllapsedTime: 50.6 seconds RetCode: 0 Status: OK PackageFile: tRNA_1.26.0.tar.gz PackageFileSize: 1.299 MiB