Package: systemPipeTools Version: 1.18.0 Command: /home/biocbuild/R/R/bin/R CMD INSTALL systemPipeTools StartedAt: 2025-11-10 21:27:01 -0000 (Mon, 10 Nov 2025) EndedAt: 2025-11-10 21:27:36 -0000 (Mon, 10 Nov 2025) EllapsedTime: 34.8 seconds RetCode: 0 Status: OK