Package: systemPipeTools Version: 1.18.0 Command: /home/biocbuild/R/R/bin/R CMD check --install=check:systemPipeTools.install-out.txt --library=/home/biocbuild/R/R/site-library --no-vignettes --timings systemPipeTools_1.18.0.tar.gz StartedAt: 2025-11-14 15:37:45 -0000 (Fri, 14 Nov 2025) EndedAt: 2025-11-14 15:45:27 -0000 (Fri, 14 Nov 2025) EllapsedTime: 462.2 seconds RetCode: 0 Status: WARNINGS CheckDir: systemPipeTools.Rcheck Warnings: 1