Package: systemPipeTools Version: 1.18.0 Command: /home/biocbuild/R/R/bin/R CMD build --keep-empty-dirs --no-resave-data systemPipeTools StartedAt: 2025-11-11 05:45:21 -0000 (Tue, 11 Nov 2025) EndedAt: 2025-11-11 05:46:48 -0000 (Tue, 11 Nov 2025) EllapsedTime: 87.1 seconds RetCode: 0 Status: OK PackageFile: systemPipeTools_1.18.0.tar.gz PackageFileSize: 719.1 KiB