Package: systemPipeTools Version: 1.16.0 Command: rm -rf systemPipeTools.buildbin-libdir && mkdir systemPipeTools.buildbin-libdir && E:\biocbuild\bbs-3.21-bioc\R\bin\R.exe CMD INSTALL --build --library=systemPipeTools.buildbin-libdir systemPipeTools_1.16.0.tar.gz StartedAt: 2025-08-15 10:26:50 -0400 (Fri, 15 Aug 2025) EndedAt: 2025-08-15 10:28:08 -0400 (Fri, 15 Aug 2025) EllapsedTime: 77.4 seconds RetCode: 0 Status: OK PackageFile: systemPipeTools_1.16.0.zip PackageFileSize: 607.9 KiB