Package: systemPipeTools Version: 1.16.0 Command: /home/biocbuild/bbs-3.21-bioc/R/bin/R CMD INSTALL systemPipeTools StartedAt: 2025-09-28 15:35:34 -0400 (Sun, 28 Sep 2025) EndedAt: 2025-09-28 15:35:58 -0400 (Sun, 28 Sep 2025) EllapsedTime: 24.8 seconds RetCode: 0 Status: OK