Package: systemPipeTools Version: 1.16.0 Command: /home/biocbuild/bbs-3.21-bioc/R/bin/R CMD check --install=check:systemPipeTools.install-out.txt --library=/home/biocbuild/bbs-3.21-bioc/R/site-library --timings systemPipeTools_1.16.0.tar.gz StartedAt: 2025-10-16 04:17:00 -0400 (Thu, 16 Oct 2025) EndedAt: 2025-10-16 04:21:56 -0400 (Thu, 16 Oct 2025) EllapsedTime: 295.5 seconds RetCode: 0 Status: WARNINGS CheckDir: systemPipeTools.Rcheck Warnings: 1