Package: systemPipeTools Version: 1.16.0 Command: /home/biocbuild/R/R/bin/R CMD check --install=check:systemPipeTools.install-out.txt --library=/home/biocbuild/R/R/site-library --no-vignettes --timings systemPipeTools_1.16.0.tar.gz StartedAt: 2025-10-10 14:43:25 -0000 (Fri, 10 Oct 2025) EndedAt: 2025-10-10 14:48:23 -0000 (Fri, 10 Oct 2025) EllapsedTime: 297.4 seconds RetCode: 1 Status: ERROR CheckDir: systemPipeTools.Rcheck Warnings: NA