Package: systemPipeTools Version: 1.16.0 Command: /Library/Frameworks/R.framework/Resources/bin/R CMD INSTALL systemPipeTools StartedAt: 2025-09-25 16:19:55 -0400 (Thu, 25 Sep 2025) EndedAt: 2025-09-25 16:20:26 -0400 (Thu, 25 Sep 2025) EllapsedTime: 30.7 seconds RetCode: 0 Status: OK