Package: systemPipeTools Version: 1.16.0 Command: /Library/Frameworks/R.framework/Resources/bin/R CMD check --install=check:systemPipeTools.install-out.txt --library=/Library/Frameworks/R.framework/Resources/library --no-vignettes --timings systemPipeTools_1.16.0.tar.gz StartedAt: 2025-10-15 14:53:46 -0400 (Wed, 15 Oct 2025) EndedAt: 2025-10-15 14:58:49 -0400 (Wed, 15 Oct 2025) EllapsedTime: 302.3 seconds RetCode: 0 Status: WARNINGS CheckDir: systemPipeTools.Rcheck Warnings: 1