Package: systemPipeShiny Version: 1.20.0 Command: /home/biocbuild/bbs-3.22-bioc/R/bin/R CMD INSTALL systemPipeShiny StartedAt: 2025-11-13 15:09:46 -0500 (Thu, 13 Nov 2025) EndedAt: 2025-11-13 15:10:11 -0500 (Thu, 13 Nov 2025) EllapsedTime: 24.6 seconds RetCode: 0 Status: OK