Package: systemPipeShiny Version: 1.20.0 Command: /home/biocbuild/bbs-3.22-bioc/R/bin/R CMD check --install=check:systemPipeShiny.install-out.txt --library=/home/biocbuild/bbs-3.22-bioc/R/site-library --timings systemPipeShiny_1.20.0.tar.gz StartedAt: 2025-11-12 04:52:05 -0500 (Wed, 12 Nov 2025) EndedAt: 2025-11-12 04:53:52 -0500 (Wed, 12 Nov 2025) EllapsedTime: 107.2 seconds RetCode: 0 Status: OK CheckDir: systemPipeShiny.Rcheck Warnings: 0