Package: systemPipeShiny Version: 1.20.0 Command: /home/biocbuild/bbs-3.22-bioc/R/bin/R CMD build --keep-empty-dirs --no-resave-data --md5 systemPipeShiny StartedAt: 2025-11-14 20:35:06 -0500 (Fri, 14 Nov 2025) EndedAt: 2025-11-14 20:35:30 -0500 (Fri, 14 Nov 2025) EllapsedTime: 24.0 seconds RetCode: 0 Status: OK PackageFile: systemPipeShiny_1.20.0.tar.gz PackageFileSize: 4.312 MiB