Package: systemPipeShiny Version: 1.18.0 Command: /Library/Frameworks/R.framework/Resources/bin/R CMD INSTALL systemPipeShiny StartedAt: 2025-09-25 15:24:47 -0400 (Thu, 25 Sep 2025) EndedAt: 2025-09-25 15:25:04 -0400 (Thu, 25 Sep 2025) EllapsedTime: 16.8 seconds RetCode: 0 Status: OK