Package: systemPipeR Version: 2.16.0 Command: /home/biocbuild/R/R/bin/R CMD INSTALL systemPipeR StartedAt: 2025-11-10 22:01:23 -0000 (Mon, 10 Nov 2025) EndedAt: 2025-11-10 22:02:28 -0000 (Mon, 10 Nov 2025) EllapsedTime: 65.4 seconds RetCode: 0 Status: OK