Package: systemPipeR Version: 2.16.0 Command: /home/biocbuild/R/R/bin/R CMD build --keep-empty-dirs --no-resave-data systemPipeR StartedAt: 2025-11-11 05:45:09 -0000 (Tue, 11 Nov 2025) EndedAt: 2025-11-11 05:46:58 -0000 (Tue, 11 Nov 2025) EllapsedTime: 109.1 seconds RetCode: 0 Status: OK PackageFile: systemPipeR_2.16.0.tar.gz PackageFileSize: 6.872 MiB