Package: systemPipeR Version: 2.14.2 Command: chmod a+r systemPipeR -R && E:\biocbuild\bbs-3.21-bioc\R\bin\R.exe CMD build --keep-empty-dirs --no-resave-data systemPipeR StartedAt: 2025-08-14 22:38:00 -0400 (Thu, 14 Aug 2025) EndedAt: 2025-08-14 22:41:36 -0400 (Thu, 14 Aug 2025) EllapsedTime: 215.1 seconds RetCode: 0 Status: OK PackageFile: systemPipeR_2.14.2.tar.gz PackageFileSize: 7.337 MiB