Package: systemPipeR Version: 2.16.0 Command: /home/biocbuild/bbs-3.22-bioc/R/bin/R CMD INSTALL systemPipeR StartedAt: 2025-11-11 15:55:58 -0500 (Tue, 11 Nov 2025) EndedAt: 2025-11-11 15:56:48 -0500 (Tue, 11 Nov 2025) EllapsedTime: 50.4 seconds RetCode: 0 Status: OK