Package: systemPipeR Version: 2.16.0 Command: /home/biocbuild/bbs-3.22-bioc/R/bin/R CMD check --install=check:systemPipeR.install-out.txt --library=/home/biocbuild/bbs-3.22-bioc/R/site-library --timings systemPipeR_2.16.0.tar.gz StartedAt: 2025-11-12 04:51:36 -0500 (Wed, 12 Nov 2025) EndedAt: 2025-11-12 04:57:58 -0500 (Wed, 12 Nov 2025) EllapsedTime: 382.5 seconds RetCode: 0 Status: OK CheckDir: systemPipeR.Rcheck Warnings: 0