Package: systemPipeR Version: 2.16.0 Command: /home/biocbuild/bbs-3.22-bioc/R/bin/R CMD build --keep-empty-dirs --no-resave-data --md5 systemPipeR StartedAt: 2025-11-11 20:35:44 -0500 (Tue, 11 Nov 2025) EndedAt: 2025-11-11 20:37:02 -0500 (Tue, 11 Nov 2025) EllapsedTime: 78.1 seconds RetCode: 0 Status: OK PackageFile: systemPipeR_2.16.0.tar.gz PackageFileSize: 6.517 MiB