Package: systemPipeR Version: 2.14.2 Command: /home/biocbuild/bbs-3.21-bioc/R/bin/R CMD INSTALL systemPipeR StartedAt: 2025-09-28 16:05:48 -0400 (Sun, 28 Sep 2025) EndedAt: 2025-09-28 16:06:34 -0400 (Sun, 28 Sep 2025) EllapsedTime: 45.7 seconds RetCode: 0 Status: OK